Workbook

Sheet CCRC M
A1: Table name: | B1: 1980-93 California CCRC, Age Last, Male
A2: Table number: | B2: 891
A3: Table type: | B3: Aggregate
A4: Usage: | B4: Annuitant mortality
A5: Contributor: | B5: Roger Scott Lumsden 75147.2620@compuserve.com
A6: Country: | B6: US
A7: Source of data: | B7: Residents from 83 CCRCs
A8: Volume of data: | B8: Exposues of 26,737 lives, Deaths of 2,699
A9: Observation period: | B9: 1980 to 1993
A10: Unit of observation: | B10: Number of lives
A11: Construction method: | B11: Whittaker B third differences with k=10,000 for ages 75-95
B12: Modified Gompertz curve fit for ages below 75
B13: Assumed a 5% rate of increase from 95 up to a peak of 500/1000
B14: There should be values for ages below 62, but they're not in the publication.
A15: Published reference: | B15: TSA 1995-96 Reports pp 143-184, see Table 5 p 160
A16: Comments: | B16: CCRC stands for Continuing Care Retirement Community
B17: These values have been checked by examining 1-3 differences
B18: but have not been proofread. If you find any errors
B19: please report them to Actuaries On Line
A20: Minimum age: | B20: 62
A21: Maximum age: | B21: 110
A22: Number of decimal places: | B22: 4
A23: Table values:
A24: 62 | B24: 0.0168
A25: 63 | B25: 0.0181
A26: 64 | B26: 0.0196
A27: 65 | B27: 0.0212
A28: 66 | B28: 0.0229
A29: 67 | B29: 0.0247
A30: 68 | B30: 0.0267
A31: 69 | B31: 0.0289
A32: 70 | B32: 0.031
A33: 71 | B33: 0.0315
A34: 72 | B34: 0.0312
A35: 73 | B35: 0.034
... A72: 110 | B72: 0.5

Sheet CCRC F
A1: Table name: | B1: 1980-93 California CCRC, Age Last, Female
A2: Table number: | B2: 892
A3: Table type: | B3: Aggregate
A4: Usage: | B4: Annuitant mortality
A5: Contributor: | B5: Roger Scott Lumsden 75147.2620@compuserve.com
A6: Country: | B6: US
A7: Source of data: | B7: Residents from 83 CCRCs
A8: Volume of data: | B8: Exposues of 111,207 lives, Deaths of 9,375
A9: Observation period: | B9: 1980 to 1993
A10: Unit of observation: | B10: Number of lives
A11: Construction method: | B11: Whittaker B third differences with k=10,000 for ages 70-95
B12: Modified Gompertz curve fit for ages below 70
B13: Assumed a 6% rate of increase from 95 up to a peak of 500/1000
B14: There should be values for ages below 62, but they're not in the publication.
A15: Published reference: | B15: TSA 1995-96 Reports pp 143-184, see Table 5 p 160
A16: Comments: | B16: CCRC stands for Continuing Care Retirement Community
B17: These values have been checked by examining 1-3 differences
B18: but have not been proofread. If you find any errors
B19: please report them to Actuaries On Line
A20: Minimum age: | B20: 62
A21: Maximum age: | B21: 110
A22: Number of decimal places: | B22: 4
A23: Table values:
A24: 62 | B24: 0.0135
A25: 63 | B25: 0.0146
A26: 64 | B26: 0.0157
A27: 65 | B27: 0.0169
A28: 66 | B28: 0.0182
A29: 67 | B29: 0.0196
A30: 68 | B30: 0.021
A31: 69 | B31: 0.0231
A32: 70 | B32: 0.0267
A33: 71 | B33: 0.027
A34: 72 | B34: 0.0276
A35: 73 | B35: 0.0312
... A72: 110 | B72: 0.5

Sheet Proj
A1: Female Annuity Values
D14: =$B$18 -> 300
A18: Number of Original Entrants = | B18: 300
B19: i= | C19: v=
A20: interest at | B20: 0.03 | C20: =1/(1+B20) -> 0.97087379
A21: Annual Cost | B21: 30000
FA22: Enterprise
A23: Age | B23: qx | D23: lx | E23: dx | F23: lxS | G23: ex | I23: Dx | J23: Nx | K23: ax | M23: Years of Operation | N23: Survivors | O23: For Group of 300 Female 85 year olds at 30000 Dollars per Year | P23: Income per Year by Annuity Rule | Q23: Accounting Using Inverse of ex | R23: Remaining Fund | S23: Investment Return | T23: Total Cohort Income by Accounting Rule | U23: Actuarial Value of Annuity Income | V23: Entrants Year 2 | W23: New Entrants Year 2 Annuity | X23: Accounting Using Inverse of ex | Y23: Remaining Fund | Z23: Investment Return | AA23: New Entants Year 2 Accounting Rule | AB23: Actuarial Value of Annuity Income for New Entrants Year 2 | AC23: Entrants Year 3 | AD23: New Entrants Year 3 Annuity | AE23: Accounting Using Inverse of ex | AF23: Remaining Fund | AG23: Investment Return | AH23: New Entants Year 3 Accounting Rule | AI23: Actuarial Value of Annuity Income for New Entrants Year 3 | AJ23: Entrants Year 4 | AK23: New Entrants Year 4 Annuity | AL23: Accounting Using Inverse of ex | AM23: Remaining Fund | AN23: Investment Return | AO23: New Entants Year 4 Accounting Rule | AP23: Actuarial Value of Annuity Income for New Entrants Year 4 | AQ23: Entrants Year 5 | AR23: New Entrants Year 5 Annuity | AS23: Accounting Using Inverse of ex | AT23: Remaining Fund | AU23: Investment Return | AV23: New Entants Year 5 Accounting Rule | AW23: Actuarial Value of Annuity Income for New Entrants Year 5 | AX23: Entrants Year 6 | AY23: New Entrants Year 6 Annuity | AZ23: Accounting Using Inverse of ex | BA23: Remaining Fund | BB23: Investment Return | BC23: New Entants Year 6 Accounting Rule | BD23: Actuarial Value of Annuity Income for New Entrants Year 6 | BE23: Entrants Year 7 | BF23: New Entrants Year 7 Annuity | BG23: Accounting Using Inverse of ex | BH23: Remaining Fund | BI23: Investment Return | BJ23: New Entants Year 7 Accounting Rule | BK23: Actuarial Value of Annuity Income for New Entrants Year 7 | BL23: Entrants Year 8 | BM23: New Entrants Year 8 Annuity | BN23: Accounting Using Inverse of ex | BO23: Remaining Fund | BP23: Investment Return | BQ23: New Entants Year 8 Accounting Rule | BR23: Actuarial Value of Annuity Income for New Entrants Year 8 | BS23: Entrants Year 9 | BT23: New Entrants Year 9 Annuity | BU23: Accounting Using Inverse of ex | BV23: Remaining Fund | BW23: Investment Return | BX23: New Entants Year 9 Accounting Rule | BY23: Actuarial Value of Annuity Income for New Entrants Year 9 | BZ23: Entrants Year 10 | CA23: New Entrants Year 10 Annuity | CB23: Accounting Using Inverse of ex | CC23: Remaining Fund | CD23: Investment Return | CE23: New Entants Year 10 Accounting Rule | CF23: Actuarial Value of Annuity Income for New Entrants Year 10 | CG23: Entrants Year 11 | CH23: New Entrants Year 11 Annuity | CI23: Accounting Using Inverse of ex | CJ23: Remaining Fund | CK23: Investment Return | CL23: New Entants Year 11 Accounting Rule | CM23: Actuarial Value of Annuity Income for New Entrants Year 11 | CN23: Entrants Year 12 | CO23: New Entrants Year 12 Annuity | CP23: Accounting Using Inverse of ex | CQ23: Remaining Fund | CR23: Investment Return | CS23: New Entants Year 12 Accounting Rule | CT23: Actuarial Value of Annuity Income for New Entrants Year 12 | CU23: Entrants Year 13 | CV23: New Entrants Year 13 Annuity | CW23: Accounting Using Inverse of ex | CX23: Remaining Fund | CY23: Investment Return | CZ23: New Entants Year 13 Accounting Rule | DA23: Actuarial Value of Annuity Income for New Entrants Year 13 | DB23: Entrants Year 14 | DC23: New Entrants Year 14 Annuity | DD23: Accounting Using Inverse of ex | DE23: Remaining Fund | DF23: Investment Return | DG23: New Entants Year 14 Accounting Rule | DH23: Actuarial Value of Annuity Income for New Entrants Year 14 | DI23: Entrants Year 15 | DJ23: New Entrants Year 15 Annuity | DK23: Accounting Using Inverse of ex | DL23: Remaining Fund | DM23: Investment Return | DN23: New Entants Year 15 Accounting Rule | DO23: Actuarial Value of Annuity Income for New Entrants Year 15 | DP23: Entrants Year 16 | DQ23: New Entrants Year 16 Annuity | DR23: Accounting Using Inverse of ex | DS23: Remaining Fund | DT23: Investment Return | DU23: New Entants Year 16 Accounting Rule | DV23: Actuarial Value of Annuity Income for New Entrants Year 16 | DW23: Entrants Year 17 | DX23: New Entrants Year 17 Annuity | DY23: Accounting Using Inverse of ex | DZ23: Remaining Fund | EA23: Investment Return | EB23: New Entants Year 17 Accounting Rule | EC23: Actuarial Value of Annuity Income for New Entrants Year 17 | ED23: Entrants Year 18 | EE23: New Entrants Year 18 Annuity | EF23: Accounting Using Inverse of ex | EG23: Remaining Fund | EH23: Investment Return | EI23: New Entants Year 18 Accounting Rule | EJ23: Actuarial Value of Annuity Income for New Entrants Year 18 | EK23: Entrants Year 19 | EL23: New Entrants Year 19 Annuity | EM23: Accounting Using Inverse of ex | EN23: Remaining Fund | EO23: Investment Return | EP23: New Entants Year 19 Accounting Rule | EQ23: Actuarial Value of Annuity Income for New Entrants Year 19 | ER23: Entrants Year 20 | ES23: New Entrants Year 20 Annuity | ET23: Accounting Using Inverse of ex | EU23: Remaining Fund | EV23: Investment Return | EW23: New Entants Year 20 Accounting Rule | EX23: Actuarial Value of Annuity Income for New Entrants Year 20 | EY23: Entrants Year 21 | EZ23: New Entrants Year 21 Annuity | FA23: Accounting Using Inverse of ex | FB23: Remaining Fund | FC23: Investment Return | FD23: New Entants Year 21 Accounting Rule | FE23: Actuarial Value of Annuity Income for New Entrants Year 21 | FF23: Entrants Year 22 | FG23: New Entrants Year 22 Annuity | FH23: Accounting Using Inverse of ex | FI23: Remaining Fund | FJ23: Investment Return | FK23: New Entants Year 22 Accounting Rule | FL23: Actuarial Value of Annuity Income for New Entrants Year 22 | FM23: Entrants Year 23 | FN23: New Entrants Year 23 Annuity | FO23: Accounting Using Inverse of ex | FP23: Remaining Fund | FQ23: Investment Return | FR23: New Entants Year 23 Accounting Rule | FS23: Actuarial Value of Annuity Income for New Entrants Year 23 | FT23: Entrants Year 24 | FU23: New Entrants Year 24 Annuity | FV23: Accounting Using Inverse of ex | FW23: Remaining Fund | FX23: Investment Return | FY23: New Entants Year 24 Accounting Rule | FZ23: Actuarial Value of Annuity Income for New Entrants Year 24 | GA23: Entrants Year 25 | GB23: New Entrants Year 25 Annuity | GC23: Accounting Using Inverse of ex | GD23: Remaining Fund | GE23: Investment Return | GF23: New Entants Year 25 Accounting Rule | GG23: Actuarial Value of Annuity Income for New Entrants Year 25 | GH23: Entrants Year 26 | GI23: New Entrants Year 26 Annuity | GJ23: Accounting Using Inverse of ex | GK23: Remaining Fund | GL23: Investment Return | GM23: New Entants Year 26 Accounting Rule | GN23: Actuarial Value of Annuity Income for New Entrants Year 26 | GO23: Entrants Year 27 | GP23: New Entrants Year 27 Annuity | GQ23: Accounting Using Inverse of ex | GR23: Remaining Fund | GS23: Investment Return | GT23: New Entants Year 27 Accounting Rule | GU23: Actuarial Value of Annuity Income for New Entrants Year 27 | GV23: Entrants Year 28 | GW23: New Entrants Year 28 Annuity | GX23: Accounting Using Inverse of ex | GY23: Remaining Fund | GZ23: Investment Return | HA23: New Entants Year 28 Accounting Rule | HB23: Actuarial Value of Annuity Income for New Entrants Year 28 | HC23: Entrants Year 29 | HD23: New Entrants Year 29 Annuity | HE23: Accounting Using Inverse of ex | HF23: Remaining Fund | HG23: Investment Return | HH23: New Entants Year 29 Accounting Rule | HI23: Actuarial Value of Annuity Income for New Entrants Year 29 | HJ23: Entrants Year 30 | HK23: New Entrants Year 30 Annuity | HL23: Accounting Using Inverse of ex | HM23: Remaining Fund | HN23: Investment Return | HO23: New Entants Year 30 Accounting Rule | HP23: Actuarial Value of Annuity Income for New Entrants Year 30 | HQ23: Entrants Year 31 | HR23: New Entrants Year 31 Annuity | HS23: Accounting Using Inverse of ex | HT23: Remaining Fund | HU23: Investment Return | HV23: New Entants Year 31 Accounting Rule | HW23: Actuarial Value of Annuity Income for New Entrants Year 31 | HX23: Entrants Year 32 | HY23: New Entrants Year 32 Annuity | HZ23: Accounting Using Inverse of ex | IA23: Remaining Fund | IB23: Investment Return | IC23: New Entants Year 32 Accounting Rule | ID23: Actuarial Value of Annuity Income for New Entrants Year 32 | IE23: Entrants Year 33 | IF23: New Entrants Year 33 Annuity | IG23: Accounting Using Inverse of ex | IH23: Remaining Fund | II23: Investment Return | IJ23: New Entants Year 33 Accounting Rule | IK23: Actuarial Value of Annuity Income for New Entrants Year 33 | IL23: Entrants Year 34 | IM23: New Entrants Year 34 Annuity | IN23: Accounting Using Inverse of ex | IO23: Remaining Fund | IP23: Investment Return | IQ23: New Entants Year 34 Accounting Rule | IR23: Actuarial Value of Annuity Income for New Entrants Year 34 | IS23: Entrants Year 35 | IT23: New Entrants Year 35 Annuity | IU23: Accounting Using Inverse of ex | IV23: Remaining Fund | IW23: Investment Return | IX23: New Entants Year 35 Accounting Rule | IY23: Actuarial Value of Annuity Income for New Entrants Year 35 | IZ23: Entrants Year 36 | JA23: New Entrants Year 36 Annuity | JB23: Accounting Using Inverse of ex | JC23: Remaining Fund | JD23: Investment Return | JE23: New Entants Year 36 Accounting Rule | JF23: Actuarial Value of Annuity Income for New Entrants Year 36 | JG23: Entrants Year 37 | JH23: New Entrants Year 37 Annuity | JI23: Accounting Using Inverse of ex | JJ23: Remaining Fund | JK23: Investment Return | JL23: New Entants Year 37 Accounting Rule | JM23: Actuarial Value of Annuity Income for New Entrants Year 37 | JN23: Entrants Year 38 | JO23: New Entrants Year 38 Annuity | JP23: Accounting Using Inverse of ex | JQ23: Remaining Fund | JR23: Investment Return | JS23: New Entants Year 38 Accounting Rule | JT23: Actuarial Value of Annuity Income for New Entrants Year 38 | JU23: Entrants Year 39 | JV23: New Entrants Year 39 Annuity | JW23: Accounting Using Inverse of ex | JX23: Remaining Fund | JY23: Investment Return | JZ23: New Entants Year 39 Accounting Rule | KA23: Actuarial Value of Annuity Income for New Entrants Year 39 | KB23: Entrants Year 40 | KC23: New Entrants Year 40 Annuity | KD23: Accounting Using Inverse of ex | KE23: Remaining Fund | KF23: Investment Return | KG23: New Entants Year 40 Accounting Rule | KH23: Actuarial Value of Annuity Income for New Entrants Year 40 | KI23: Entrants Year 41 | KJ23: New Entrants Year 41 Annuity | KK23: Accounting Using Inverse of ex | KL23: Remaining Fund | KM23: Investment Return | KN23: New Entants Year 41 Accounting Rule | KO23: Actuarial Value of Annuity Income for New Entrants Year 41 | KP23: Entrants Year 42 | KQ23: New Entrants Year 42 Annuity | KR23: Accounting Using Inverse of ex | KS23: Remaining Fund | KT23: Investment Return | KU23: New Entants Year 42 Accounting Rule | KV23: Actuarial Value of Annuity Income for New Entrants Year 42 | KW23: Entrants Year 43 | KX23: New Entrants Year 43 Annuity | KY23: Accounting Using Inverse of ex | KZ23: Remaining Fund | LA23: Investment Return | LB23: New Entants Year 43 Accounting Rule | LC23: Actuarial Value of Annuity Income for New Entrants Year 43 | LD23: Entrants Year 44 | LE23: New Entrants Year 44 Annuity | LF23: Accounting Using Inverse of ex | LG23: Remaining Fund | LH23: Investment Return | LI23: New Entants Year 44 Accounting Rule | LJ23: Actuarial Value of Annuity Income for New Entrants Year 44 | LK23: Entrants Year 45 | LL23: New Entrants Year 45 Annuity | LM23: Accounting Using Inverse of ex | LN23: Remaining Fund | LO23: Investment Return | LP23: New Entants Year 45 Accounting Rule | LQ23: Actuarial Value of Annuity Income for New Entrants Year 45 | LR23: Entrants Year 46 | LS23: New Entrants Year 46 Annuity | LT23: Accounting Using Inverse of ex | LU23: Remaining Fund | LV23: Investment Return | LW23: New Entants Year 46 Accounting Rule | LX23: Actuarial Value of Annuity Income for New Entrants Year 46 | LY23: Entrants Year 47 | LZ23: New Entrants Year 47 Annuity | MA23: Accounting Using Inverse of ex | MB23: Remaining Fund | MC23: Investment Return | MD23: New Entants Year 47 Accounting Rule | ME23: Actuarial Value of Annuity Income for New Entrants Year 47 | MF23: Entrants Year 48 | MG23: New Entrants Year 48 Annuity | MH23: Accounting Using Inverse of ex | MI23: Remaining Fund | MJ23: Investment Return | MK23: New Entants Year 48 Accounting Rule | ML23: Actuarial Value of Annuity Income for New Entrants Year 48 | MM23: Entrants Year 49 | MN23: New Entrants Year 49 Annuity | MO23: Accounting Using Inverse of ex | MP23: Remaining Fund | MQ23: Investment Return | MR23: New Entants Year 49 Accounting Rule | MS23: Actuarial Value of Annuity Income for New Entrants Year 49 | MT23: Entrants Year 50 | MU23: New Entrants Year 50 Annuity | MV23: Accounting Using Inverse of ex | MW23: Remaining Fund | MX23: Investment Return | MY23: New Entants Year 50 Accounting Rule | MZ23: Actuarial Value of Annuity Income for New Entrants Year 50 | NC23: Year of Operation | ND23: Total Residents | NE23: Annuity Income | NF23: Income by Accounting Rule | NH23: Total BOY Actuarial Fund | NI23: Total BOY Accounting Fund
A24: ='CCRC F'!A24 -> 62 | B24: ='CCRC F'!B24 -> 0.0135 | D24: 10000 | E24: =D24*B24 -> 135 | F24: =F25+D24 -> 214737.98 | G24: =F24/D24 -> 21.473798 | I24: =D24*($C$20^A24) -> 1599.8972 | J24: =J25+I24 -> 24458.881 | K24: =J24/I24 -> 15.287783
A25: ='CCRC F'!A25 -> 63 | B25: ='CCRC F'!B25 -> 0.0146 | D25: =D24-E24 -> 9865 | E25: =D25*B25 -> 144.029 | F25: =F26+D25 -> 204737.98 | G25: =F25/D25 -> 20.753976 | I25: =D25*($C$20^A25) -> 1532.3287 | J25: =J26+I25 -> 22858.983 | K25: =J25/I25 -> 14.917807
A26: ='CCRC F'!A26 -> 64 | B26: ='CCRC F'!B26 -> 0.0157 | D26: =D25-E25 -> 9720.971 | E26: =D26*B26 -> 152.61924 | F26: =F27+D26 -> 194872.98 | G26: =F26/D26 -> 20.046658 | I26: =D26*($C$20^A26) -> 1465.9774 | J26: =J27+I26 -> 21326.655 | K26: =J26/I26 -> 14.547738
A27: ='CCRC F'!A27 -> 65 | B27: ='CCRC F'!B27 -> 0.0169 | D27: =D26-E26 -> 9568.3518 | E27: =D27*B27 -> 161.70514 | F27: =F28+D27 -> 185152.01 | G27: =F27/D27 -> 19.35046 | I27: =D27*($C$20^A27) -> 1400.9335 | J27: =J28+I27 -> 19860.677 | K27: =J27/I27 -> 14.176745
A28: ='CCRC F'!A28 -> 66 | B28: ='CCRC F'!B28 -> 0.0182 | D28: =D27-E27 -> 9406.6466 | E28: =D28*B28 -> 171.20097 | F28: =F29+D28 -> 175583.65 | G28: =F28/D28 -> 18.665914 | I28: =D28*($C$20^A28) -> 1337.1434 | J28: =J29+I28 -> 18459.744 | K28: =J28/I28 -> 13.805358
A29: ='CCRC F'!A29 -> 67 | B29: ='CCRC F'!B29 -> 0.0196 | D29: =D28-E28 -> 9235.4456 | E29: =D29*B29 -> 181.01473 | F29: =F30+D29 -> 166177.01 | G29: =F29/D29 -> 17.993394 | I29: =D29*($C$20^A29) -> 1274.5703 | J29: =J30+I29 -> 17122.6 | K29: =J29/I29 -> 13.434018
A30: ='CCRC F'!A30 -> 68 | B30: ='CCRC F'!B30 -> 0.021 | D30: =D29-E29 -> 9054.4309 | E30: =D30*B30 -> 190.14305 | F30: =F31+D30 -> 156941.56 | G30: =F30/D30 -> 17.333123 | I30: =D30*($C$20^A30) -> 1213.193 | J30: =J31+I30 -> 15848.03 | K30: =J30/I30 -> 13.063075
A31: ='CCRC F'!A31 -> 69 | B31: ='CCRC F'!B31 -> 0.0231 | D31: =D30-E30 -> 8864.2879 | E31: =D31*B31 -> 204.76505 | F31: =F32+D31 -> 147887.13 | G31: =F31/D31 -> 16.683476 | I31: =D31*($C$20^A31) -> 1153.1222 | J31: =J32+I31 -> 14634.837 | K31: =J31/I31 -> 12.691488
A32: ='CCRC F'!A32 -> 70 | B32: ='CCRC F'!B32 -> 0.0267 | D32: =D31-E31 -> 8659.5228 | E32: =D32*B32 -> 231.20926 | F32: =F33+D32 -> 139022.84 | G32: =F32/D32 -> 16.054331 | I32: =D32*($C$20^A32) -> 1093.6749 | J32: =J33+I32 -> 13481.715 | K32: =J32/I32 -> 12.326986
A33: ='CCRC F'!A33 -> 71 | B33: ='CCRC F'!B33 -> 0.027 | D33: =D32-E32 -> 8428.3136 | E33: =D33*B33 -> 227.56447 | F33: =F34+D33 -> 130363.32 | G33: =F33/D33 -> 15.467308 | I33: =D33*($C$20^A33) -> 1033.4697 | J33: =J34+I33 -> 12388.04 | K33: =J33/I33 -> 11.986844
A34: ='CCRC F'!A34 -> 72 | B34: ='CCRC F'!B34 -> 0.0276 | D34: =D33-E33 -> 8200.7491 | E34: =D34*B34 -> 226.34067 | F34: =F35+D34 -> 121935.01 | G34: =F34/D34 -> 14.868765 | I34: =D34*($C$20^A34) -> 976.27765 | J34: =J35+I34 -> 11354.57 | K34: =J34/I34 -> 11.630473
A35: ='CCRC F'!A35 -> 73 | B35: ='CCRC F'!B35 -> 0.0312 | D35: =D34-E34 -> 7974.4084 | E35: =D35*B35 -> 248.80154 | F35: =F36+D35 -> 113734.26 | G35: =F35/D35 -> 14.262407 | I35: =D35*($C$20^A35) -> 921.68193 | J35: =J36+I35 -> 10378.293 | K35: =J35/I35 -> 11.260167
A36: ='CCRC F'!A36 -> 74 | B36: ='CCRC F'!B36 -> 0.0319 | D36: =D35-E35 -> 7725.6069 | E36: =D36*B36 -> 246.44686 | F36: =F37+D36 -> 105759.85 | G36: =F36/D36 -> 13.68952 | I36: =D36*($C$20^A36) -> 866.91791 | J36: =J37+I36 -> 9456.6108 | K36: =J36/I36 -> 10.908312
... A39: ='CCRC F'!A39 -> 77 | B39: ='CCRC F'!B39 -> 0.0341 | D39: =D38-E38 -> 7005.2568 | E39: =D39*B39 -> 238.87926 | F39: =F40+D39 -> 83316.752 | G39: =F39/D39 -> 11.893461 | I39: =D39*($C$20^A39) -> 719.379 | J39: =J40+I39 -> 7009.2611 | K39: =J39/I39 -> 9.7434885
A40: ='CCRC F'!A40 -> 78 | B40: ='CCRC F'!B40 -> 0.0379 | D40: =D39-E39 -> 6766.3775 | E40: =D40*B40 -> 256.44571 | F40: =F41+D40 -> 76311.495 | G40: =F40/D40 -> 11.278043 | I40: =D40*($C$20^A40) -> 674.60988 | J40: =J41+I40 -> 6289.8821 | K40: =J40/I40 -> 9.3237325 | W40: =$V$48*$B$21*$K$47 -> 4532121.3
A41: ='CCRC F'!A41 -> 79 | B41: ='CCRC F'!B41 -> 0.0431 | D41: =D40-E40 -> 6509.9318 | E41: =D41*B41 -> 280.57806 | F41: =F42+D41 -> 69545.118 | G41: =F41/D41 -> 10.682926 | I41: =D41*($C$20^A41) -> 630.13803 | J41: =J42+I41 -> 5615.2722 | K41: =J41/I41 -> 8.9111781
A42: ='CCRC F'!A42 -> 80 | B42: ='CCRC F'!B42 -> 0.0461 | D42: =D41-E41 -> 6229.3538 | E42: =D42*B42 -> 287.17321 | F42: =F43+D42 -> 63035.186 | G42: =F42/D42 -> 10.119057 | I42: =D42*($C$20^A42) -> 585.41658 | J42: =J43+I42 -> 4985.1342 | K42: =J42/I42 -> 8.5155329
A43: ='CCRC F'!A43 -> 81 | B43: ='CCRC F'!B43 -> 0.049 | D43: =D42-E42 -> 5942.1806 | E43: =D43*B43 -> 291.16685 | F43: =F44+D43 -> 56805.832 | G43: =F43/D43 -> 9.559762 | I43: =D43*($C$20^A43) -> 542.16396 | J43: =J44+I43 -> 4399.7176 | K43: =J43/I43 -> 8.1151053
A44: ='CCRC F'!A44 -> 82 | B44: ='CCRC F'!B44 -> 0.0534 | D44: =D43-E43 -> 5651.0137 | E44: =D44*B44 -> 301.76413 | F44: =F45+D44 -> 50863.651 | G44: =F44/D44 -> 9.0008013 | I44: =D44*($C$20^A44) -> 500.58051 | J44: =J45+I44 -> 3857.5536 | K44: =J44/I44 -> 7.7061603
A45: ='CCRC F'!A45 -> 83 | B45: ='CCRC F'!B45 -> 0.0612 | D45: =D44-E44 -> 5349.2496 | E45: =D45*B45 -> 327.37407 | F45: =F46+D45 -> 45212.638 | G45: =F45/D45 -> 8.4521459 | I45: =D45*($C$20^A45) -> 460.04807 | J45: =J46+I45 -> 3356.9731 | K45: =J45/I45 -> 7.2970051 | W45: Assumed Entrance Fees | AD45: Assumed Entrance Fees | AK45: Assumed Entrance Fees | AR45: Assumed Entrance Fees | AY45: Assumed Entrance Fees | BF45: Assumed Entrance Fees | BM45: Assumed Entrance Fees | BT45: Assumed Entrance Fees | CA45: Assumed Entrance Fees | CH45: Assumed Entrance Fees | CO45: Assumed Entrance Fees | CV45: Assumed Entrance Fees | DC45: Assumed Entrance Fees | DJ45: Assumed Entrance Fees | DQ45: Assumed Entrance Fees | DX45: Assumed Entrance Fees | EE45: Assumed Entrance Fees | EL45: Assumed Entrance Fees | ES45: Assumed Entrance Fees | EZ45: Assumed Entrance Fees | FG45: Assumed Entrance Fees | FN45: Assumed Entrance Fees | FU45: Assumed Entrance Fees | GB45: Assumed Entrance Fees | GI45: Assumed Entrance Fees | GP45: Assumed Entrance Fees | GW45: Assumed Entrance Fees | HD45: Assumed Entrance Fees | HK45: Assumed Entrance Fees | HR45: Assumed Entrance Fees | HY45: Assumed Entrance Fees | IF45: Assumed Entrance Fees | IM45: Assumed Entrance Fees | IT45: Assumed Entrance Fees | JA45: Assumed Entrance Fees | JH45: Assumed Entrance Fees | JO45: Assumed Entrance Fees | JV45: Assumed Entrance Fees | KC45: Assumed Entrance Fees | KJ45: Assumed Entrance Fees | KQ45: Assumed Entrance Fees | KX45: Assumed Entrance Fees | LE45: Assumed Entrance Fees | LL45: Assumed Entrance Fees | LS45: Assumed Entrance Fees | LZ45: Assumed Entrance Fees | MG45: Assumed Entrance Fees | MN45: Assumed Entrance Fees | MU45: Assumed Entrance Fees
A46: ='CCRC F'!A46 -> 84 | B46: ='CCRC F'!B46 -> 0.0694 | D46: =D45-E45 -> 5021.8755 | E46: =D46*B46 -> 348.51816 | F46: =F47+D46 -> 39863.388 | G46: =F46/D46 -> 7.9379483 | I46: =D46*($C$20^A46) -> 419.31371 | J46: =J47+I46 -> 2896.925 | K46: =J46/I46 -> 6.9087295 | W46: =23.1*$B$21*$K$47 -> 4532121.3 | AD46: =21.952254964539*$B$21*$K$47 -> 4306938.6 | AK46: =21.4823457383946*$B$21*$K$47 -> 4214744.4 | AR46: =24.010167028971*$B$21*$K$47 -> 4710692.2 | AY46: =28.2634310511151*$B$21*$K$47 -> 5545164.4 | BF46: =31.6869646340661*$B$21*$K$47 -> 6216847 | BM46: =34.5844339319149*$B$21*$K$47 -> 6785318.1 | BT46: =37.3022394158867*$B$21*$K$47 -> 7318540 | CA46: =39.9504176656005*$B$21*$K$47 -> 7838101.2 | CH46: =41.7746428141089*$B$21*$K$47 -> 8196006.4 | CO46: =42.949263111447*$B$21*$K$47 -> 8426461.9 | CV46: =43.7738532938291*$B$21*$K$47 -> 8588242.9 | DC46: =44.3875594538919*$B$21*$K$47 -> 8708649.5 | DJ46: =44.8425298296125*$B$21*$K$47 -> 8797912.7 | DQ46: =45.1545057106147*$B$21*$K$47 -> 8859121 | DX46: =45.4065772963928*$B$21*$K$47 -> 8908576.4 | EE46: =45.5642435874128*$B$21*$K$47 -> 8939509.9 | EL46: =45.6403404679599*$B$21*$K$47 -> 8954439.8 | ES46: =45.6659475929516*$B$21*$K$47 -> 8959463.8 | EZ46: =45.6701598303735*$B$21*$K$47 -> 8960290.2 | FG46: =45.671226366907*$B$21*$K$47 -> 8960499.4 | FN46: =45.6742738328373*$B$21*$K$47 -> 8961097.3 | FU46: =45.6787704331977*$B$21*$K$47 -> 8961979.5 | GB46: =45.6820457428738*$B$21*$K$47 -> 8962622.1 | GI46: =45.6793632397417*$B$21*$K$47 -> 8962095.9 | GP46: =45.7266299003828*$B$21*$K$47 -> 8971369.4 | GW46: =45.6532821877386*$B$21*$K$47 -> 8956978.9 | HD46: =45.6708747910176*$B$21*$K$47 -> 8960430.5 | HK46: =45.6792384610052*$B$21*$K$47 -> 8962071.4 | HR46: =45.6825900747024*$B$21*$K$47 -> 8962728.9 | HY46: =45.6829460182034*$B$21*$K$47 -> 8962798.8 | IF46: =45.6820245657357*$B$21*$K$47 -> 8962618 | IM46: =45.6807977652424*$B$21*$K$47 -> 8962377.3 | IT46: =45.6798393658161*$B$21*$K$47 -> 8962189.3 | JA46: =45.6796033488727*$B$21*$K$47 -> 8962143 | JH46: =45.6799707400131*$B$21*$K$47 -> 8962215 | JO46: =45.6804633766232*$B$21*$K$47 -> 8962311.7 | JV46: =45.6807143711949*$B$21*$K$47 -> 8962360.9 | KC46: =45.6806789905632*$B$21*$K$47 -> 8962354 | KJ46: =45.6805100901894*$B$21*$K$47 -> 8962320.9 | KQ46: =45.6803718404715*$B$21*$K$47 -> 8962293.7 | KX46: =45.6803331920571*$B$21*$K$47 -> 8962286.2 | LE46: =45.6803709001621*$B$21*$K$47 -> 8962293.6 | LL46: =45.6804271658062*$B$21*$K$47 -> 8962304.6 | LS46: =45.6804600892775*$B$21*$K$47 -> 8962311 | LZ46: =45.6804608904251*$B$21*$K$47 -> 8962311.2 | MG46: =45.680443802426*$B$21*$K$47 -> 8962307.9 | MN46: =45.6804271544887*$B$21*$K$47 -> 8962304.6 | MU46: =45.6804206513156*$B$21*$K$47 -> 8962303.3
A47: ='CCRC F'!A47 -> 85 | B47: ='CCRC F'!B47 -> 0.077 | D47: =D46-E46 -> 4673.3573 | E47: =D47*B47 -> 359.84852 | F47: =F48+D47 -> 34841.513 | G47: =F47/D47 -> 7.4553496 | I47: =D47*($C$20^A47) -> 378.84791 | J47: =J48+I47 -> 2477.6113 | K47: =J47/I47 -> 6.5398575 | M47: 1 | N47: =$B$18 -> 300 | O47: =$B$18*$B$21*$K$47 -> 58858718 | P47: =$B$18*$B$21*$D$47/$D$47 -> 9000000 | Q47: =$O$47/$G$47 -> 7894830.1 | R47: =$O$47-$Q$47 -> 50963888 | S47: =$B$20*$R$47 -> 1528916.6 | T47: =Q47+S47 -> 9423746.7 | U47: =P47*(K47-1) -> 49858718 | NC47: 1 | ND47: =N47 -> 300 | NE47: =P47 -> 9000000 | NF47: =T47 -> 9423746.7 | NH47: =U47 -> 49858718 | NI47: =R47 -> 50963888
A48: ='CCRC F'!A48 -> 86 | B48: ='CCRC F'!B48 -> 0.0855 | D48: =D47-E47 -> 4313.5088 | E48: =D48*B48 -> 368.805 | F48: =F49+D48 -> 30168.155 | G48: =F48/D48 -> 6.9938782 | I48: =D48*($C$20^A48) -> 339.49186 | J48: =J49+I48 -> 2098.7634 | K48: =J48/I48 -> 6.1820729 | M48: 2 | N48: =$B$18*$D$48/$D$47 -> 276.9 | O48: =$B$18*$B$21*$K$48 -> 55638656 | P48: =$B$18*$B$21*$D$48/$D$47 -> 8307000 | Q48: =R47/$G$48 -> 7286928.2 | R48: =R47-$Q$48 -> 43676960 | S48: =$B$20*$R$48 -> 1310308.8 | T48: =Q48+S48 -> 8597236.9 | U48: =P48*(K48-1) -> 43047479 | V48: =($N47-$N48) -> 23.1 | W48: =V48*$B$21 -> 693000 | X48: =W$46/$G47 -> 607901.92 | Y48: =W$46-X48 -> 3924219.4 | Z48: =$B$20*Y48 -> 117726.58 | AA48: =X48+Z48 -> 725628.5 | AB48: =W48*(VLOOKUP(85,$A$24:$K$72,11,FALSE)-1) -> 3839121.3 | NC48: 2 | ND48: =N48+V48 -> 300 | NE48: =P48+W48 -> 9000000 | NF48: =T48+AA48 -> 9322865.4 | NH48: =U48+AB48 -> 46886601 | NI48: =R48+Y48 -> 47601179
A49: ='CCRC F'!A49 -> 87 | B49: ='CCRC F'!B49 -> 0.0913 | D49: =D48-E48 -> 3944.7038 | E49: =D49*B49 -> 360.15146 | F49: =F50+D49 -> 25854.646 | G49: =F49/D49 -> 6.5542681 | I49: =D49*($C$20^A49) -> 301.42263 | J49: =J50+I49 -> 1759.2716 | K49: =J49/I49 -> 5.836561 | M49: 3 | N49: =$B$18*$D$49/$D$47 -> 253.22505 | O49: =$B$18*$B$21*$K$49 -> 52529049 | P49: =$B$18*$B$21*$D$49/$D$47 -> 7596751.5 | Q49: =R48/$G$49 -> 6663895.8 | R49: =R48-$Q$49 -> 37013064 | S49: =$B$20*$R$49 -> 1110391.9 | T49: =Q49+S49 -> 7774287.7 | U49: =P49*(K49-1) -> 36742152 | V49: =V$48*$D$46/$D$47 -> 24.822695 | W49: =V49*$B$21 -> 744680.85 | X49: =Y48/$G48 -> 561093.47 | Y49: =Y48-X49 -> 3363125.9 | Z49: =$B$20*Y49 -> 100893.78 | AA49: =X49+Z49 -> 661987.24 | AB49: =W49*(VLOOKUP(86,$A$24:$K$72,11,FALSE)-1) -> 3858990.4 | AC49: =($N48-$N49)+(V48-V49) -> 21.952255 | AD49: =AC49*$B$21 -> 658567.65 | AE49: =AD$46/$G47 -> 577697.74 | AF49: =AD$46-AE49 -> 3729240.9 | AG49: =$B$20*AF49 -> 111877.23 | AH49: =AE49+AG49 -> 689574.97 | AI49: =AD49*(VLOOKUP(85,$A$24:$K$72,11,FALSE)-1) -> 3648371 | NC49: 3 | ND49: =N49+V49+AC49 -> 300 | NE49: =P49+W49+AD49 -> 9000000 | NF49: =T49+AA49+AH49 -> 9125849.9 | NH49: =U49+AB49+AI49 -> 44249514 | NI49: =R49+Y49+AF49 -> 44105431
A50: ='CCRC F'!A50 -> 88 | B50: ='CCRC F'!B50 -> 0.103 | D50: =D49-E49 -> 3584.5524 | E50: =D50*B50 -> 369.20889 | F50: =F51+D50 -> 21909.943 | G50: =F50/D50 -> 6.1123232 | I50: =D50*($C$20^A50) -> 265.92499 | J50: =J51+I50 -> 1457.8489 | K50: =J50/I50 -> 5.482181 | M50: 4 | N50: =$B$18*$D$50/$D$47 -> 230.1056 | O50: =$B$18*$B$21*$K$50 -> 49339629 | P50: =$B$18*$B$21*$D$50/$D$47 -> 6903168.1 | Q50: =R49/$G$50 -> 6055482.1 | R50: =R49-$Q$50 -> 30957582 | S50: =$B$20*$R$50 -> 928727.45 | T50: =Q50+S50 -> 6984209.6 | U50: =P50*(K50-1) -> 30941249 | V50: =V$49*$D$47/$D$47 -> 24.822695 | W50: =V50*$B$21 -> 744680.85 | X50: =Y49/$G49 -> 513119.98 | Y50: =Y49-X50 -> 2850005.9 | Z50: =$B$20*Y50 -> 85500.178 | AA50: =X50+Z50 -> 598620.15 | AB50: =W50*(VLOOKUP(87,$A$24:$K$72,11,FALSE)-1) -> 3601694.4 | AC50: =AC$49*$D$46/$D$47 -> 23.589356 | AD50: =AC50*$B$21 -> 707680.69 | AE50: =AF49/$G48 -> 533215.02 | AF50: =AF49-AE50 -> 3196025.9 | AG50: =$B$20*AF50 -> 95880.776 | AH50: =AE50+AG50 -> 629095.79 | AI50: =AD50*(VLOOKUP(86,$A$24:$K$72,11,FALSE)-1) -> 3667252.9 | AJ50: =($N49-$N50)+(AC49-AC50)+(V49-V50) -> 21.482346 | AK50: =AJ50*$B$21 -> 644470.37 | AL50: =AK$46/$G47 -> 565331.56 | AM50: =AK$46-AL50 -> 3649412.9 | AN50: =$B$20*AM50 -> 109482.39 | AO50: =AL50+AN50 -> 674813.95 | AP50: =AK50*(VLOOKUP(85,$A$24:$K$72,11,FALSE)-1) -> 3570274.1 | NC50: 4 | ND50: =N50+V50+AC50+AJ50 -> 300 | NE50: =P50+W50+AD50+AK50 -> 9000000 | NF50: =T50+AA50+AH50+AO50 -> 8886739.5 | NH50: =U50+AB50+AI50+AP50 -> 41780470 | NI50: =R50+Y50+AF50+AM50 -> 40653026
A51: ='CCRC F'!A51 -> 89 | B51: ='CCRC F'!B51 -> 0.1195 | D51: =D50-E50 -> 3215.3435 | E51: =D51*B51 -> 384.23354 | F51: =F52+D51 -> 18325.39 | G51: =F51/D51 -> 5.699357 | I51: =D51*($C$20^A51) -> 231.5871 | J51: =J52+I51 -> 1191.9239 | K51: =J51/I51 -> 5.146763 | M51: 5 | N51: =$B$18*$D$51/$D$47 -> 206.40473 | O51: =$B$18*$B$21*$K$51 -> 46320867 | P51: =$B$18*$B$21*$D$51/$D$47 -> 6192141.8 | Q51: =R50/$G$51 -> 5431767.5 | R51: =R50-$Q$51 -> 25525814 | S51: =$B$20*$R$51 -> 765774.43 | T51: =Q51+S51 -> 6197541.9 | U51: =P51*(K51-1) -> 25677345 | V51: =V$50*$D$48/$D$47 -> 22.911348 | W51: =V51*$B$21 -> 687340.43 | X51: =Y50/$G50 -> 466272.12 | Y51: =Y50-X51 -> 2383733.8 | Z51: =$B$20*Y51 -> 71512.014 | AA51: =X51+Z51 -> 537784.14 | AB51: =W51*(VLOOKUP(88,$A$24:$K$72,11,FALSE)-1) -> 3080784.2 | AC51: =AC$50*$D$47/$D$47 -> 23.589356 | AD51: =AC51*$B$21 -> 707680.69 | AE51: =AF50/$G49 -> 487625.13 | AF51: =AF50-AE51 -> 2708400.7 | AG51: =$B$20*AF51 -> 81252.022 | AH51: =AE51+AG51 -> 568877.15 | AI51: =AD51*(VLOOKUP(87,$A$24:$K$72,11,FALSE)-1) -> 3422740.8 | AJ51: =AJ$50*$D$46/$D$47 -> 23.084403 | AK51: =AJ51*$B$21 -> 692532.1 | AL51: =AM50/$G48 -> 521801.03 | AM51: =AM50-AL51 -> 3127611.8 | AN51: =$B$20*AM51 -> 93828.355 | AO51: =AL51+AN51 -> 615629.39 | AP51: =AK51*(VLOOKUP(86,$A$24:$K$72,11,FALSE)-1) -> 3588751.8 | AQ51: =($N50-$N51)+(AJ50-AJ51)+(AC50-AC51)+(V50-V51) -> 24.010167 | AR51: =AQ51*$B$21 -> 720305.01 | AS51: =AR$46/$G47 -> 631853.96 | AT51: =AR$46-AS51 -> 4078838.2 | AU51: =$B$20*AT51 -> 122365.15 | AV51: =AS51+AU51 -> 754219.11 | AW51: =AR51*(VLOOKUP(85,$A$24:$K$72,11,FALSE)-1) -> 3990387.1 | NC51: 5 | ND51: =N51+V51+AC51+AJ51+AQ51 -> 300 | NE51: =P51+W51+AD51+AK51+AR51 -> 9000000 | NF51: =T51+AA51+AH51+AO51+AV51 -> 8674051.7 | NH51: =U51+AB51+AI51+AP51+AW51 -> 39760009 | NI51: =R51+Y51+AF51+AM51+AT51 -> 37824399
A52: ='CCRC F'!A52 -> 90 | B52: ='CCRC F'!B52 -> 0.1327 | D52: =D51-E51 -> 2831.1099 | E52: =D52*B52 -> 375.68829 | F52: =F53+D52 -> 15110.047 | G52: =F52/D52 -> 5.3371459 | I52: =D52*($C$20^A52) -> 197.97325 | J52: =J53+I52 -> 960.33684 | K52: =J52/I52 -> 4.8508415 | M52: 6 | N52: =$B$18*$D$52/$D$47 -> 181.73936 | O52: =$B$18*$B$21*$K$52 -> 43657573 | P52: =$B$18*$B$21*$D$52/$D$47 -> 5452180.8 | Q52: =R51/$G$52 -> 4782671.2 | R52: =R51-$Q$52 -> 20743143 | S52: =$B$20*$R$52 -> 622294.29 | T52: =Q52+S52 -> 5404965.5 | U52: =P52*(K52-1) -> 20995484 | V52: =V$51*$D$49/$D$47 -> 19.33909 | W52: =V52*$B$21 -> 580172.71 | X52: =Y51/$G51 -> 418246.09 | Y52: =Y51-X52 -> 1965487.7 | Z52: =$B$20*Y52 -> 58964.631 | AA52: =X52+Z52 -> 477210.72 | AB52: =W52*(VLOOKUP(89,$A$24:$K$72,11,FALSE)-1) -> 2405838.7 | AC52: =AC$51*$D$48/$D$47 -> 21.772976 | AD52: =AC52*$B$21 -> 653189.28 | AE52: =AF51/$G50 -> 443104.96 | AF52: =AF51-AE52 -> 2265295.8 | AG52: =$B$20*AF52 -> 67958.873 | AH52: =AE52+AG52 -> 511063.83 | AI52: =AD52*(VLOOKUP(88,$A$24:$K$72,11,FALSE)-1) -> 2927712.6 | AJ52: =AJ$51*$D$47/$D$47 -> 23.084403 | AK52: =AJ52*$B$21 -> 692532.1 | AL52: =AM51/$G49 -> 477187.04 | AM52: =AM51-AL52 -> 2650424.8 | AN52: =$B$20*AM52 -> 79512.744 | AO52: =AL52+AN52 -> 556699.79 | AP52: =AK52*(VLOOKUP(87,$A$24:$K$72,11,FALSE)-1) -> 3349473.8 | AQ52: =AQ$51*$D$46/$D$47 -> 25.800738 | AR52: =AQ52*$B$21 -> 774022.15 | AS52: =AT51/$G48 -> 583201.21 | AT52: =AT51-AS52 -> 3495637 | AU52: =$B$20*AT52 -> 104869.11 | AV52: =AS52+AU52 -> 688070.32 | AW52: =AR52*(VLOOKUP(86,$A$24:$K$72,11,FALSE)-1) -> 4011039.2 | AX52: =($N51-$N52)+(AQ51-AQ52)+(AJ51-AJ52)+(AC51-AC52)+(V51-V52) -> 28.263431 | AY52: =AX52*$B$21 -> 847902.93 | AZ52: =AY$46/$G47 -> 743783.28 | BA52: =AY$46-AZ52 -> 4801381.1 | BB52: =$B$20*BA52 -> 144041.43 | BC52: =AZ52+BB52 -> 887824.72 | BD52: =AY52*(VLOOKUP(85,$A$24:$K$72,11,FALSE)-1) -> 4697261.5 | NC52: 6 | ND52: =N52+V52+AC52+AJ52+AQ52+AX52 -> 300 | NE52: =P52+W52+AD52+AK52+AR52+AY52 -> 9000000 | NF52: =T52+AA52+AH52+AO52+AV52+BC52 -> 8525834.9 | NH52: =U52+AB52+AI52+AP52+AW52+BD52 -> 38386810 | NI52: =R52+Y52+AF52+AM52+AT52+BA52 -> 35921369
A53: ='CCRC F'!A53 -> 91 | B53: ='CCRC F'!B53 -> 0.1442 | D53: =D52-E52 -> 2455.4216 | E53: =D53*B53 -> 354.0718 | F53: =F54+D53 -> 12278.937 | G53: =F53/D53 -> 5.0007448 | I53: =D53*($C$20^A53) -> 166.70116 | J53: =J54+I53 -> 762.36359 | K53: =J53/I53 -> 4.573235 | M53: 7 | N53: =$B$18*$D$53/$D$47 -> 157.62255 | O53: =$B$18*$B$21*$K$53 -> 41159115 | P53: =$B$18*$B$21*$D$53/$D$47 -> 4728676.4 | Q53: =R52/$G$53 -> 4148010.8 | R53: =R52-$Q$53 -> 16595132 | S53: =$B$20*$R$53 -> 497853.97 | T53: =Q53+S53 -> 4645864.7 | U53: =P53*(K53-1) -> 16896672 | V53: =V$52*$D$50/$D$47 -> 14.833444 | W53: =V53*$B$21 -> 445003.31 | X53: =Y52/$G52 -> 368265.69 | Y53: =Y52-X53 -> 1597222 | Z53: =$B$20*Y53 -> 47916.661 | AA53: =X53+Z53 -> 416182.35 | AB53: =W53*(VLOOKUP(90,$A$24:$K$72,11,FALSE)-1) -> 1713637.2 | AC53: =AC$52*$D$49/$D$47 -> 18.37821 | AD53: =AC53*$B$21 -> 551346.29 | AE53: =AF52/$G51 -> 397465.15 | AF53: =AF52-AE53 -> 1867830.6 | AG53: =$B$20*AF53 -> 56034.918 | AH53: =AE53+AG53 -> 453500.07 | AI53: =AD53*(VLOOKUP(89,$A$24:$K$72,11,FALSE)-1) -> 2286302.4 | AJ53: =AJ$52*$D$48/$D$47 -> 21.306904 | AK53: =AJ53*$B$21 -> 639207.13 | AL53: =AM52/$G50 -> 433619.87 | AM53: =AM52-AL53 -> 2216804.9 | AN53: =$B$20*AM53 -> 66504.148 | AO53: =AL53+AN53 -> 500124.02 | AP53: =AK53*(VLOOKUP(88,$A$24:$K$72,11,FALSE)-1) -> 2865042 | AQ53: =AQ$52*$D$47/$D$47 -> 25.800738 | AR53: =AQ53*$B$21 -> 774022.15 | AS53: =AT52/$G49 -> 533337.5 | AT53: =AT52-AS53 -> 2962299.5 | AU53: =$B$20*AT53 -> 88868.985 | AV53: =AS53+AU53 -> 622206.49 | AW53: =AR53*(VLOOKUP(87,$A$24:$K$72,11,FALSE)-1) -> 3743605.4 | AX53: =AX$52*$D$46/$D$47 -> 30.371192 | AY53: =AX53*$B$21 -> 911135.75 | AZ53: =BA52/$G48 -> 686511.97 | BA53: =BA52-AZ53 -> 4114869.1 | BB53: =$B$20*BA53 -> 123446.07 | BC53: =AZ53+BB53 -> 809958.05 | BD53: =AY53*(VLOOKUP(86,$A$24:$K$72,11,FALSE)-1) -> 4721571.9 | BE53: =($N52-$N53)+(AX52-AX53)+(AQ52-AQ53)+(AJ52-AJ53)+(AC52-AC53)+(V52-V53) -> 31.686965 | BF53: =BE53*$B$21 -> 950608.94 | BG53: =BF$46/$G47 -> 833877.34 | BH53: =BF$46-BG53 -> 5382969.7 | BI53: =$B$20*BH53 -> 161489.09 | BJ53: =BG53+BI53 -> 995366.43 | BK53: =BF53*(VLOOKUP(85,$A$24:$K$72,11,FALSE)-1) -> 5266238.1 | NC53: 7 | ND53: =N53+V53+AC53+AJ53+AQ53+AX53+BE53 -> 300 | NE53: =P53+W53+AD53+AK53+AR53+AY53+BF53 -> 9000000 | NF53: =T53+AA53+AH53+AO53+AV53+BC53+BJ53 -> 8443202.1 | NH53: =U53+AB53+AI53+AP53+AW53+BD53+BK53 -> 37493069 | NI53: =R53+Y53+AF53+AM53+AT53+BA53+BH53 -> 34737128
A54: ='CCRC F'!A54 -> 92 | B54: ='CCRC F'!B54 -> 0.1573 | D54: =D53-E53 -> 2101.3498 | E54: =D54*B54 -> 330.54233 | F54: =F55+D54 -> 9823.5153 | G54: =F54/D54 -> 4.6748595 | I54: =D54*($C$20^A54) -> 138.50763 | J54: =J55+I54 -> 595.66243 | K54: =J54/I54 -> 4.3005749 | M54: 8 | N54: =$B$18*$D$54/$D$47 -> 134.89338 | O54: =$B$18*$B$21*$K$54 -> 38705175 | P54: =$B$18*$B$21*$D$54/$D$47 -> 4046801.3 | Q54: =R53/$G$54 -> 3549867.6 | R54: =R53-$Q$54 -> 13045265 | S54: =$B$20*$R$54 -> 391357.94 | T54: =Q54+S54 -> 3941225.6 | U54: =P54*(K54-1) -> 13356771 | V54: =V$53*$D$51/$D$47 -> 10.205643 | W54: =V54*$B$21 -> 306169.28 | X54: =Y53/$G53 -> 319396.83 | Y54: =Y53-X54 -> 1277825.2 | Z54: =$B$20*Y54 -> 38334.756 | AA54: =X54+Z54 -> 357731.58 | AB54: =W54*(VLOOKUP(91,$A$24:$K$72,11,FALSE)-1) -> 1094014.8 | AC54: =AC$53*$D$50/$D$47 -> 14.09643 | AD54: =AC54*$B$21 -> 422892.9 | AE54: =AF53/$G52 -> 349968.06 | AF54: =AF53-AE54 -> 1517862.6 | AG54: =$B$20*AF54 -> 45535.877 | AH54: =AE54+AG54 -> 395503.94 | AI54: =AD54*(VLOOKUP(90,$A$24:$K$72,11,FALSE)-1) -> 1628493.5 | AJ54: =AJ$53*$D$49/$D$47 -> 17.984806 | AK54: =AJ54*$B$21 -> 539544.19 | AL54: =AM53/$G51 -> 388957.02 | AM54: =AM53-AL54 -> 1827847.9 | AN54: =$B$20*AM54 -> 54835.437 | AO54: =AL54+AN54 -> 443792.46 | AP54: =AK54*(VLOOKUP(89,$A$24:$K$72,11,FALSE)-1) -> 2237361.9 | AQ54: =AQ$53*$D$48/$D$47 -> 23.814081 | AR54: =AQ54*$B$21 -> 714422.44 | AS54: =AT53/$G50 -> 484643.79 | AT54: =AT53-AS54 -> 2477655.7 | AU54: =$B$20*AT54 -> 74329.671 | AV54: =AS54+AU54 -> 558973.46 | AW54: =AR54*(VLOOKUP(88,$A$24:$K$72,11,FALSE)-1) -> 3202170.7 | AX54: =AX$53*$D$47/$D$47 -> 30.371192 | AY54: =AX54*$B$21 -> 911135.75 | AZ54: =BA53/$G49 -> 627815.2 | BA54: =BA53-AZ54 -> 3487053.9 | BB54: =$B$20*BA54 -> 104611.62 | BC54: =AZ54+BB54 -> 732426.82 | BD54: =AY54*(VLOOKUP(87,$A$24:$K$72,11,FALSE)-1) -> 4406763.7 | BE54: =BE$53*$D$46/$D$47 -> 34.050037 | BF54: =BE54*$B$21 -> 1021501.1 | BG54: =BH53/$G48 -> 769668.78 | BH54: =BH53-BG54 -> 4613300.9 | BI54: =$B$20*BH54 -> 138399.03 | BJ54: =BG54+BI54 -> 908067.81 | BK54: =BF54*(VLOOKUP(86,$A$24:$K$72,11,FALSE)-1) -> 5293493.2 | BL54: =($N53-$N54)+(BE53-BE54)+(AX53-AX54)+(AQ53-AQ54)+(AJ53-AJ54)+(AC53-AC54)+(V53-V54) -> 34.584434 | BM54: =BL54*$B$21 -> 1037533 | BN54: =BM$46/$G47 -> 910127.43 | BO54: =BM$46-BN54 -> 5875190.7 | BP54: =$B$20*BO54 -> 176255.72 | BQ54: =BN54+BP54 -> 1086383.2 | BR54: =BM54*(VLOOKUP(85,$A$24:$K$72,11,FALSE)-1) -> 5747785.1 | NC54: 8 | ND54: =N54+V54+AC54+AJ54+AQ54+AX54+BE54+BL54 -> 300 | NE54: =P54+W54+AD54+AK54+AR54+AY54+BF54+BM54 -> 9000000 | NF54: =T54+AA54+AH54+AO54+AV54+BC54+BJ54+BQ54 -> 8424104.8 | NH54: =U54+AB54+AI54+AP54+AW54+BD54+BK54+BR54 -> 36966854 | NI54: =R54+Y54+AF54+AM54+AT54+BA54+BH54+BO54 -> 34122002
A55: ='CCRC F'!A55 -> 93 | B55: ='CCRC F'!B55 -> 0.1759 | D55: =D54-E54 -> 1770.8075 | E55: =D55*B55 -> 311.48504 | F55: =F56+D55 -> 7722.1654 | G55: =F55/D55 -> 4.3608158 | I55: =D55*($C$20^A55) -> 113.32075 | J55: =J56+I55 -> 457.1548 | K55: =J55/I55 -> 4.0341666 | M55: 9 | N55: =$B$18*$D$55/$D$47 -> 113.67465 | O55: =$B$18*$B$21*$K$55 -> 36307499 | P55: =$B$18*$B$21*$D$55/$D$47 -> 3410239.5 | Q55: =R54/$G$55 -> 2991473.4 | R55: =R54-$Q$55 -> 10053791 | S55: =$B$20*$R$55 -> 301613.74 | T55: =Q55+S55 -> 3293087.2 | U55: =P55*(K55-1) -> 10347235 | V55: =V$54*$D$52/$D$47 -> 6.1825567 | W55: =V55*$B$21 -> 185476.7 | X55: =Y54/$G54 -> 273339.81 | Y55: =Y54-X55 -> 1004485.4 | Z55: =$B$20*Y55 -> 30134.561 | AA55: =X55+Z55 -> 303474.37 | AB55: =W55*(VLOOKUP(92,$A$24:$K$72,11,FALSE)-1) -> 612179.75 | AC55: =AC$54*$D$51/$D$47 -> 9.6985659 | AD55: =AC55*$B$21 -> 290956.98 | AE55: =AF54/$G53 -> 303527.3 | AF55: =AF54-AE55 -> 1214335.3 | AG55: =$B$20*AF55 -> 36430.058 | AH55: =AE55+AG55 -> 339957.36 | AI55: =AD55*(VLOOKUP(91,$A$24:$K$72,11,FALSE)-1) -> 1039657.7 | AJ55: =AJ$54*$D$50/$D$47 -> 13.794682 | AK55: =AJ55*$B$21 -> 413840.47 | AL55: =AM54/$G52 -> 342476.66 | AM55: =AM54-AL55 -> 1485371.2 | AN55: =$B$20*AM55 -> 44561.137 | AO55: =AL55+AN55 -> 387037.79 | AP55: =AK55*(VLOOKUP(90,$A$24:$K$72,11,FALSE)-1) -> 1593634 | AQ55: =AQ$54*$D$49/$D$47 -> 20.101073 | AR55: =AQ55*$B$21 -> 603032.2 | AS55: =AT54/$G51 -> 434725.48 | AT55: =AT54-AS55 -> 2042930.2 | AU55: =$B$20*AT55 -> 61287.907 | AV55: =AS55+AU55 -> 496013.39 | AW55: =AR55*(VLOOKUP(89,$A$24:$K$72,11,FALSE)-1) -> 2500631.6 | AX55: =AX$54*$D$48/$D$47 -> 28.03261 | AY55: =AX55*$B$21 -> 840978.3 | AZ55: =BA54/$G50 -> 570495.67 | BA55: =BA54-AZ55 -> 2916558.3 | BB55: =$B$20*BA55 -> 87496.748 | BC55: =AZ55+BB55 -> 657992.42 | BD55: =AY55*(VLOOKUP(88,$A$24:$K$72,11,FALSE)-1) -> 3769417 | BE55: =BE$54*$D$47/$D$47 -> 34.050037 | BF55: =BE55*$B$21 -> 1021501.1 | BG55: =BH54/$G49 -> 703862.1 | BH55: =BH54-BG55 -> 3909438.8 | BI55: =$B$20*BH55 -> 117283.16 | BJ55: =BG55+BI55 -> 821145.27 | BK55: =BF55*(VLOOKUP(87,$A$24:$K$72,11,FALSE)-1) -> 4940552.5 | BL55: =BL$54*$D$46/$D$47 -> 37.163587 | BM55: =BL55*$B$21 -> 1114907.6 | BN55: =BO54/$G48 -> 840047.62 | BO55: =BO54-BN55 -> 5035143.1 | BP55: =$B$20*BO55 -> 151054.29 | BQ55: =BN55+BP55 -> 991101.91 | BR55: =BM55*(VLOOKUP(86,$A$24:$K$72,11,FALSE)-1) -> 5777532.5 | BS55: =($N54-$N55)+(BL54-BL55)+(BE54-BE55)+(AX54-AX55)+(AQ54-AQ55)+(AJ54-AJ55)+(AC54-AC55)+(V54-V55) -> 37.302239 | BT55: =BS55*$B$21 -> 1119067.2 | BU55: =BT$46/$G47 -> 981649.47 | BV55: =BT$46-BU55 -> 6336890.5 | BW55: =$B$20*BV55 -> 190106.71 | BX55: =BU55+BW55 -> 1171756.2 | BY55: =BT55*(VLOOKUP(85,$A$24:$K$72,11,FALSE)-1) -> 6199472.8 | NC55: 9 | ND55: =N55+V55+AC55+AJ55+AQ55+AX55+BE55+BL55+BS55 -> 300 | NE55: =P55+W55+AD55+AK55+AR55+AY55+BF55+BM55+BT55 -> 9000000 | NF55: =T55+AA55+AH55+AO55+AV55+BC55+BJ55+BQ55+BX55 -> 8461565.9 | NH55: =U55+AB55+AI55+AP55+AW55+BD55+BK55+BR55+BY55 -> 36780312 | NI55: =R55+Y55+AF55+AM55+AT55+BA55+BH55+BO55+BV55 -> 33998944
A56: ='CCRC F'!A56 -> 94 | B56: ='CCRC F'!B56 -> 0.1959 | D56: =D55-E55 -> 1459.3225 | E56: =D56*B56 -> 285.88127 | F56: =F57+D56 -> 5951.3579 | G56: =F56/D56 -> 4.0781651 | I56: =D56*($C$20^A56) -> 90.667606 | J56: =J57+I56 -> 343.83405 | K56: =J56/I56 -> 3.792248 | M56: 10 | N56: =$B$18*$D$56/$D$47 -> 93.679278 | O56: =$B$18*$B$21*$K$56 -> 34130232 | P56: =$B$18*$B$21*$D$56/$D$47 -> 2810378.3 | Q56: =R55/$G$56 -> 2465273.3 | R56: =R55-$Q$56 -> 7588518 | S56: =$B$20*$R$56 -> 227655.54 | T56: =Q56+S56 -> 2692928.8 | U56: =P56*(K56-1) -> 7847273.3 | V56: =V$55*$D$53/$D$47 -> 3.2483678 | W56: =V56*$B$21 -> 97451.034 | X56: =Y55/$G55 -> 230343.45 | Y56: =Y55-X56 -> 774141.93 | Z56: =$B$20*Y56 -> 23224.258 | AA56: =X56+Z56 -> 253567.71 | AB56: =W56*(VLOOKUP(93,$A$24:$K$72,11,FALSE)-1) -> 295682.67 | AC56: =AC$55*$D$52/$D$47 -> 5.8753706 | AD56: =AC56*$B$21 -> 176261.12 | AE56: =AF55/$G54 -> 259758.66 | AF56: =AF55-AE56 -> 954576.59 | AG56: =$B$20*AF56 -> 28637.298 | AH56: =AE56+AG56 -> 288395.96 | AI56: =AD56*(VLOOKUP(92,$A$24:$K$72,11,FALSE)-1) -> 581763.03 | AJ56: =AJ$55*$D$51/$D$47 -> 9.4909588 | AK56: =AJ56*$B$21 -> 284728.76 | AL56: =AM55/$G53 -> 297030 | AM56: =AM55-AL56 -> 1188341.2 | AN56: =$B$20*AM56 -> 35650.237 | AO56: =AL56+AN56 -> 332680.24 | AP56: =AK56*(VLOOKUP(91,$A$24:$K$72,11,FALSE)-1) -> 1017402.8 | AQ56: =AQ$55*$D$50/$D$47 -> 15.417899 | AR56: =AQ56*$B$21 -> 462536.96 | AS56: =AT55/$G52 -> 382775.78 | AT56: =AT55-AS56 -> 1660154.4 | AU56: =$B$20*AT56 -> 49804.633 | AV56: =AS56+AU56 -> 432580.42 | AW56: =AR56*(VLOOKUP(90,$A$24:$K$72,11,FALSE)-1) -> 1781156.5 | AX56: =AX$55*$D$49/$D$47 -> 23.661864 | AY56: =AX56*$B$21 -> 709855.91 | AZ56: =BA55/$G51 -> 511734.62 | BA56: =BA55-AZ56 -> 2404823.6 | BB56: =$B$20*BA56 -> 72144.709 | BC56: =AZ56+BB56 -> 583879.33 | BD56: =AY56*(VLOOKUP(89,$A$24:$K$72,11,FALSE)-1) -> 2943604.2 | BE56: =BE$55*$D$48/$D$47 -> 31.428184 | BF56: =BE56*$B$21 -> 942845.53 | BG56: =BH55/$G50 -> 639599.49 | BH56: =BH55-BG56 -> 3269839.3 | BI56: =$B$20*BH56 -> 98095.18 | BJ56: =BG56+BI56 -> 737694.67 | BK56: =BF56*(VLOOKUP(88,$A$24:$K$72,11,FALSE)-1) -> 4226004.3 | BL56: =BL$55*$D$47/$D$47 -> 37.163587 | BM56: =BL56*$B$21 -> 1114907.6 | BN56: =BO55/$G49 -> 768223.55 | BO56: =BO55-BN56 -> 4266919.5 | BP56: =$B$20*BO56 -> 128007.59 | BQ56: =BN56+BP56 -> 896231.13 | BR56: =BM56*(VLOOKUP(87,$A$24:$K$72,11,FALSE)-1) -> 5392318.7 | BS56: =BS$55*$D$46/$D$47 -> 40.084074 | BT56: =BS56*$B$21 -> 1202522.2 | BU56: =BV55/$G48 -> 906062.46 | BV56: =BV55-BU56 -> 5430828 | BW56: =$B$20*BV56 -> 162924.84 | BX56: =BU56+BW56 -> 1068987.3 | BY56: =BT56*(VLOOKUP(86,$A$24:$K$72,11,FALSE)-1) -> 6231557.8 | BZ56: =($N55-$N56)+(BS55-BS56)+(BL55-BL56)+(BE55-BE56)+(AX55-AX56)+(AQ55-AQ56)+(AJ55-AJ56)+(AC55-AC56)+(V55-V56) -> 39.950418 | CA56: =BZ56*$B$21 -> 1198512.5 | CB56: =CA$46/$G47 -> 1051339.2 | CC56: =CA$46-CB56 -> 6786762 | CD56: =$B$20*CC56 -> 203602.86 | CE56: =CB56+CD56 -> 1254942.1 | CF56: =CA56*(VLOOKUP(85,$A$24:$K$72,11,FALSE)-1) -> 6639588.7 | NC56: 10 | ND56: =N56+V56+AC56+AJ56+AQ56+AX56+BE56+BL56+BS56+BZ56 -> 300 | NE56: =P56+W56+AD56+AK56+AR56+AY56+BF56+BM56+BT56+CA56 -> 9000000 | NF56: =T56+AA56+AH56+AO56+AV56+BC56+BJ56+BQ56+BX56+CE56 -> 8541887.6 | NH56: =U56+AB56+AI56+AP56+AW56+BD56+BK56+BR56+BY56+CF56 -> 36956352 | NI56: =R56+Y56+AF56+AM56+AT56+BA56+BH56+BO56+BV56+CC56 -> 34324905
A57: ='CCRC F'!A57 -> 95 | B57: ='CCRC F'!B57 -> 0.216 | D57: =D56-E56 -> 1173.4412 | E57: =D57*B57 -> 253.4633 | F57: =F58+D57 -> 4492.0354 | G57: =F57/D57 -> 3.8280874 | I57: =D57*($C$20^A57) -> 70.782351 | J57: =J58+I57 -> 253.16644 | K57: =J57/I57 -> 3.5766888 | M57: 11 | N57: =$B$18*$D$57/$D$47 -> 75.327507 | O57: =$B$18*$B$21*$K$57 -> 32190199 | P57: =$B$18*$B$21*$D$57/$D$47 -> 2259825.2 | Q57: =R56/$G$57 -> 1982326.2 | R57: =R56-$Q$57 -> 5606191.8 | S57: =$B$20*$R$57 -> 168185.75 | T57: =Q57+S57 -> 2150512 | U57: =P57*(K57-1) -> 5822866.3 | V57: =V$56*$D$54/$D$47 -> 1.460611 | W57: =V57*$B$21 -> 43818.33 | X57: =Y56/$G56 -> 189826.04 | Y57: =Y56-X57 -> 584315.89 | Z57: =$B$20*Y57 -> 17529.477 | AA57: =X57+Z57 -> 207355.52 | AB57: =W57*(VLOOKUP(94,$A$24:$K$72,11,FALSE)-1) -> 122351.65 | AC57: =AC$56*$D$53/$D$47 -> 3.0869696 | AD57: =AC57*$B$21 -> 92609.088 | AE57: =AF56/$G55 -> 218898.63 | AF57: =AF56-AE57 -> 735677.96 | AG57: =$B$20*AF57 -> 22070.339 | AH57: =AE57+AG57 -> 240968.96 | AI57: =AD57*(VLOOKUP(93,$A$24:$K$72,11,FALSE)-1) -> 280991.4 | AJ57: =AJ$56*$D$52/$D$47 -> 5.7496026 | AK57: =AJ57*$B$21 -> 172488.08 | AL57: =AM56/$G54 -> 254198.28 | AM57: =AM56-AL57 -> 934142.96 | AN57: =$B$20*AM57 -> 28024.289 | AO57: =AL57+AN57 -> 282222.57 | AP57: =AK57*(VLOOKUP(92,$A$24:$K$72,11,FALSE)-1) -> 569309.83 | AQ57: =AQ$56*$D$51/$D$47 -> 10.607757 | AR57: =AQ57*$B$21 -> 318232.71 | AS57: =AT56/$G53 -> 331981.44 | AT57: =AT56-AS57 -> 1328173 | AU57: =$B$20*AT57 -> 39845.19 | AV57: =AS57+AU57 -> 371826.63 | AW57: =AR57*(VLOOKUP(91,$A$24:$K$72,11,FALSE)-1) -> 1137120.3 | AX57: =AX$56*$D$50/$D$47 -> 18.149091 | AY57: =AX57*$B$21 -> 544472.74 | AZ57: =BA56/$G52 -> 450582.33 | BA57: =BA56-AZ57 -> 1954241.3 | BB57: =$B$20*BA57 -> 58627.239 | BC57: =AZ57+BB57 -> 509209.57 | BD57: =AY57*(VLOOKUP(90,$A$24:$K$72,11,FALSE)-1) -> 2096678.2 | BE57: =BE$56*$D$49/$D$47 -> 26.528012 | BF57: =BE57*$B$21 -> 795840.36 | BG57: =BH56/$G51 -> 573720.74 | BH57: =BH56-BG57 -> 2696118.6 | BI57: =$B$20*BH57 -> 80883.558 | BJ57: =BG57+BI57 -> 654604.3 | BK57: =BF57*(VLOOKUP(89,$A$24:$K$72,11,FALSE)-1) -> 3300161.4 | BL57: =BL$56*$D$48/$D$47 -> 34.301991 | BM57: =BL57*$B$21 -> 1029059.7 | BN57: =BO56/$G50 -> 698084.74 | BO57: =BO56-BN57 -> 3568834.8 | BP57: =$B$20*BO57 -> 107065.04 | BQ57: =BN57+BP57 -> 805149.78 | BR57: =BM57*(VLOOKUP(88,$A$24:$K$72,11,FALSE)-1) -> 4612431.9 | BS57: =BS$56*$D$47/$D$47 -> 40.084074 | BT57: =BS57*$B$21 -> 1202522.2 | BU57: =BV56/$G49 -> 828594.12 | BV57: =BV56-BU57 -> 4602233.9 | BW57: =$B$20*BV57 -> 138067.02 | BX57: =BU57+BW57 -> 966661.14 | BY57: =BT57*(VLOOKUP(87,$A$24:$K$72,11,FALSE)-1) -> 5816072.1 | BZ57: =BZ$56*$D$46/$D$47 -> 42.929742 | CA57: =BZ57*$B$21 -> 1287892.3 | CB57: =CC56/$G48 -> 970386.08 | CC57: =CC56-CB57 -> 5816375.9 | CD57: =$B$20*CC57 -> 174491.28 | CE57: =CB57+CD57 -> 1144877.4 | CF57: =CA57*(VLOOKUP(86,$A$24:$K$72,11,FALSE)-1) -> 6673951.5 | CG57: =($N56-$N57)+(BZ56-BZ57)+(BS56-BS57)+(BL56-BL57)+(BE56-BE57)+(AX56-AX57)+(AQ56-AQ57)+(AJ56-AJ57)+(AC56-AC57)+(V56-V57) -> 41.774643 | CH57: =CG57*$B$21 -> 1253239.3 | CI57: =CH$46/$G47 -> 1099345.7 | CJ57: =CH$46-CI57 -> 7096660.7 | CK57: =$B$20*CJ57 -> 212899.82 | CL57: =CI57+CK57 -> 1312245.5 | CM57: =CH57*(VLOOKUP(85,$A$24:$K$72,11,FALSE)-1) -> 6942767.1 | NC57: 11 | ND57: =N57+V57+AC57+AJ57+AQ57+AX57+BE57+BL57+BS57+BZ57+CG57 -> 300 | NE57: =P57+W57+AD57+AK57+AR57+AY57+BF57+BM57+BT57+CA57+CH57 -> 9000000 | NF57: =T57+AA57+AH57+AO57+AV57+BC57+BJ57+BQ57+BX57+CE57+CL57 -> 8645633.3 | NH57: =U57+AB57+AI57+AP57+AW57+BD57+BK57+BR57+BY57+CF57+CM57 -> 37374702 | NI57: =R57+Y57+AF57+AM57+AT57+BA57+BH57+BO57+BV57+CC57+CJ57 -> 34922967
...
